BEGIN:VCALENDAR
VERSION:2.0
PRODID:-//Erich Kaestner - ECPv6.15.17.1//NONSGML v1.0//EN
CALSCALE:GREGORIAN
METHOD:PUBLISH
X-WR-CALNAME:Erich Kaestner
X-ORIGINAL-URL:https://gs-alzenau.de
X-WR-CALDESC:Veranstaltungen für Erich Kaestner
REFRESH-INTERVAL;VALUE=DURATION:PT1H
X-Robots-Tag:noindex
X-PUBLISHED-TTL:PT1H
BEGIN:VTIMEZONE
TZID:Europe/Berlin
BEGIN:DAYLIGHT
TZOFFSETFROM:+0100
TZOFFSETTO:+0200
TZNAME:CEST
DTSTART:20250330T010000
END:DAYLIGHT
BEGIN:STANDARD
TZOFFSETFROM:+0200
TZOFFSETTO:+0100
TZNAME:CET
DTSTART:20251026T010000
END:STANDARD
BEGIN:DAYLIGHT
TZOFFSETFROM:+0100
TZOFFSETTO:+0200
TZNAME:CEST
DTSTART:20260329T010000
END:DAYLIGHT
BEGIN:STANDARD
TZOFFSETFROM:+0200
TZOFFSETTO:+0100
TZNAME:CET
DTSTART:20261025T010000
END:STANDARD
BEGIN:DAYLIGHT
TZOFFSETFROM:+0100
TZOFFSETTO:+0200
TZNAME:CEST
DTSTART:20270328T010000
END:DAYLIGHT
BEGIN:STANDARD
TZOFFSETFROM:+0200
TZOFFSETTO:+0100
TZNAME:CET
DTSTART:20271031T010000
END:STANDARD
END:VTIMEZONE
BEGIN:VEVENT
DTSTART;VALUE=DATE:20260423
DTEND;VALUE=DATE:20260424
DTSTAMP:20260420T124947
CREATED:20250923T075054Z
LAST-MODIFIED:20250923T075459Z
UID:2278-1776902400-1776988799@gs-alzenau.de
SUMMARY:Welttag des Buches: Autorenlesung in den Klassen
DESCRIPTION:
URL:https://gs-alzenau.de/termin/welttag-des-buches-autorenlesung-in-den-klassen/
LOCATION:Erich Kästner Grundschule Alzenau
END:VEVENT
BEGIN:VEVENT
DTSTART;VALUE=DATE:20260429
DTEND;VALUE=DATE:20260430
DTSTAMP:20260420T124947
CREATED:20250923T075548Z
LAST-MODIFIED:20250923T075548Z
UID:2280-1777420800-1777507199@gs-alzenau.de
SUMMARY:VERA / Deutsch I  - 3. Klassen
DESCRIPTION:
URL:https://gs-alzenau.de/termin/vera-deutsch-i-3-klassen/
LOCATION:Erich Kästner Grundschule Alzenau
END:VEVENT
BEGIN:VEVENT
DTSTART;VALUE=DATE:20260429
DTEND;VALUE=DATE:20260430
DTSTAMP:20260420T124947
CREATED:20250923T075614Z
LAST-MODIFIED:20250923T075614Z
UID:2282-1777420800-1777507199@gs-alzenau.de
SUMMARY:Orientierungsarbeiten / RS 2. Klassen
DESCRIPTION:
URL:https://gs-alzenau.de/termin/orientierungsarbeiten-rs-2-klassen-2/
LOCATION:Erich Kästner Grundschule Alzenau
END:VEVENT
BEGIN:VEVENT
DTSTART;VALUE=DATE:20260504
DTEND;VALUE=DATE:20260505
DTSTAMP:20260420T124947
CREATED:20250923T075655Z
LAST-MODIFIED:20250923T075655Z
UID:2284-1777852800-1777939199@gs-alzenau.de
SUMMARY:Ausgabe der Übertrittszeugnisse
DESCRIPTION:
URL:https://gs-alzenau.de/termin/ausgabe-der-uebertrittszeugnisse-3/
LOCATION:Erich Kästner Grundschule Alzenau
END:VEVENT
BEGIN:VEVENT
DTSTART;VALUE=DATE:20260505
DTEND;VALUE=DATE:20260506
DTSTAMP:20260420T124947
CREATED:20250923T075722Z
LAST-MODIFIED:20250923T075722Z
UID:2286-1777939200-1778025599@gs-alzenau.de
SUMMARY:Start Verkehrsgarten 4. Klassen
DESCRIPTION:
URL:https://gs-alzenau.de/termin/start-verkehrsgarten-4-klassen/
LOCATION:Erich Kästner Grundschule Alzenau
END:VEVENT
BEGIN:VEVENT
DTSTART;VALUE=DATE:20260506
DTEND;VALUE=DATE:20260507
DTSTAMP:20260420T124947
CREATED:20250923T075753Z
LAST-MODIFIED:20250923T075753Z
UID:2288-1778025600-1778111999@gs-alzenau.de
SUMMARY:VERA / Mathematik – 3. Klassen
DESCRIPTION:
URL:https://gs-alzenau.de/termin/vera-mathematik-3-klassen-2/
LOCATION:Erich Kästner Grundschule Alzenau
END:VEVENT
BEGIN:VEVENT
DTSTART;VALUE=DATE:20260507
DTEND;VALUE=DATE:20260508
DTSTAMP:20260420T124947
CREATED:20250923T075907Z
LAST-MODIFIED:20250923T075907Z
UID:2290-1778112000-1778198399@gs-alzenau.de
SUMMARY:VERA / Deutsch II – 3. Klassen
DESCRIPTION:
URL:https://gs-alzenau.de/termin/vera-deutsch-ii-3-klassen/
LOCATION:Erich Kästner Grundschule Alzenau
END:VEVENT
BEGIN:VEVENT
DTSTART;VALUE=DATE:20260511
DTEND;VALUE=DATE:20260514
DTSTAMP:20260420T124947
CREATED:20250923T075947Z
LAST-MODIFIED:20250923T075947Z
UID:2292-1778457600-1778716799@gs-alzenau.de
SUMMARY:Anmeldewoche an bayer. Gymnasien und Realschulen
DESCRIPTION:
URL:https://gs-alzenau.de/termin/anmeldewoche-an-bayer-gymnasien-und-realschulen-2/
END:VEVENT
BEGIN:VEVENT
DTSTART;VALUE=DATE:20260515
DTEND;VALUE=DATE:20260516
DTSTAMP:20260420T124947
CREATED:20250923T080021Z
LAST-MODIFIED:20250923T080021Z
UID:2294-1778803200-1778889599@gs-alzenau.de
SUMMARY:Ausgleichstag „unterrichtsfrei“
DESCRIPTION:
URL:https://gs-alzenau.de/termin/ausgleichstag-unterrichtsfrei-2/
LOCATION:Erich Kästner Grundschule Alzenau
END:VEVENT
BEGIN:VEVENT
DTSTART;VALUE=DATE:20260519
DTEND;VALUE=DATE:20260522
DTSTAMP:20260420T124947
CREATED:20250923T080100Z
LAST-MODIFIED:20250923T080100Z
UID:2296-1779148800-1779407999@gs-alzenau.de
SUMMARY:Probeunterricht an bayer. Gymnasien und Realschulen
DESCRIPTION:
URL:https://gs-alzenau.de/termin/probeunterricht-an-bayer-gymnasien-und-realschulen-3/
END:VEVENT
BEGIN:VEVENT
DTSTART;VALUE=DATE:20260523
DTEND;VALUE=DATE:20260608
DTSTAMP:20260420T124947
CREATED:20250923T080137Z
LAST-MODIFIED:20250923T080137Z
UID:2298-1779494400-1780876799@gs-alzenau.de
SUMMARY:Pfingstferien
DESCRIPTION:
URL:https://gs-alzenau.de/termin/pfingstferien-3/
LOCATION:Erich Kästner Grundschule Alzenau
END:VEVENT
BEGIN:VEVENT
DTSTART;VALUE=DATE:20260626
DTEND;VALUE=DATE:20260627
DTSTAMP:20260420T124947
CREATED:20250923T080245Z
LAST-MODIFIED:20250923T080245Z
UID:2302-1782432000-1782518399@gs-alzenau.de
SUMMARY:Bundesjugendspiele / Ausweichtermin 03.07.
DESCRIPTION:
URL:https://gs-alzenau.de/termin/bundesjugendspiele-ausweichtermin-03-07/
LOCATION:Erich Kästner Grundschule Alzenau
END:VEVENT
BEGIN:VEVENT
DTSTART;VALUE=DATE:20260703
DTEND;VALUE=DATE:20260704
DTSTAMP:20260420T124947
CREATED:20250923T080315Z
LAST-MODIFIED:20250923T080315Z
UID:2304-1783036800-1783123199@gs-alzenau.de
SUMMARY:Bundesjugendspiele / Ausweichtermin
DESCRIPTION:
URL:https://gs-alzenau.de/termin/bundesjugendspiele-ausweichtermin/
LOCATION:Erich Kästner Grundschule Alzenau
END:VEVENT
BEGIN:VEVENT
DTSTART;VALUE=DATE:20260706
DTEND;VALUE=DATE:20260711
DTSTAMP:20260420T124947
CREATED:20250923T080355Z
LAST-MODIFIED:20250923T080355Z
UID:2307-1783296000-1783727999@gs-alzenau.de
SUMMARY:Projektwoche
DESCRIPTION:
URL:https://gs-alzenau.de/termin/projektwoche/
LOCATION:Erich Kästner Grundschule Alzenau
END:VEVENT
BEGIN:VEVENT
DTSTART;VALUE=DATE:20260728
DTEND;VALUE=DATE:20260729
DTSTAMP:20260420T124947
CREATED:20250923T080445Z
LAST-MODIFIED:20250923T080445Z
UID:2309-1785196800-1785283199@gs-alzenau.de
SUMMARY:Abschlussgottesdienst; Unterrichtsende 11:15\, Verabschiedung der 4. Klassen
DESCRIPTION:
URL:https://gs-alzenau.de/termin/abschlussgottesdienst-unterrichtsende-1115-verabschiedung-der-4-klassen/
LOCATION:Erich Kästner Grundschule Alzenau
END:VEVENT
BEGIN:VEVENT
DTSTART;VALUE=DATE:20260731
DTEND;VALUE=DATE:20260801
DTSTAMP:20260420T124947
CREATED:20250923T080515Z
LAST-MODIFIED:20250923T080515Z
UID:2311-1785456000-1785542399@gs-alzenau.de
SUMMARY:Ausgabe der Jahreszeugnisse; Unterrichtsende: 09:30 Uhr
DESCRIPTION:
URL:https://gs-alzenau.de/termin/ausgabe-der-jahreszeugnisse-unterrichtsende-0930-uhr/
LOCATION:Erich Kästner Grundschule Alzenau
END:VEVENT
BEGIN:VEVENT
DTSTART;VALUE=DATE:20260801
DTEND;VALUE=DATE:20260915
DTSTAMP:20260420T124947
CREATED:20250923T080550Z
LAST-MODIFIED:20250923T080550Z
UID:2313-1785542400-1789430399@gs-alzenau.de
SUMMARY:Sommerferien
DESCRIPTION:
URL:https://gs-alzenau.de/termin/sommerferien-3/
LOCATION:Erich Kästner Grundschule Alzenau
END:VEVENT
BEGIN:VEVENT
DTSTART;VALUE=DATE:20260915
DTEND;VALUE=DATE:20260916
DTSTAMP:20260420T124947
CREATED:20250923T080618Z
LAST-MODIFIED:20250923T080618Z
UID:2315-1789430400-1789516799@gs-alzenau.de
SUMMARY:1. Schultag Schuljahr 26/27
DESCRIPTION:
URL:https://gs-alzenau.de/termin/1-schultag-schuljahr-26-27/
LOCATION:Erich Kästner Grundschule Alzenau
END:VEVENT
END:VCALENDAR